BEGIN:VCALENDAR
VERSION:2.0
PRODID:-//TYPO3/NONSGML News system (news)//EN
CALSCALE:GREGORIAN
METHOD:PUBLISH
BEGIN:VEVENT
UID:news-116510@maria-saal.gv.at

DTSTAMP:20260422T155604Z



DTSTART;TZID=Europe/Vienna:20260429T180000
DTEND;TZID=Europe/Vienna:20260429T000000

SUMMARY:GR-Sitzung
DESCRIPTION:

LOCATION:


END:VEVENT
END:VCALENDAR
